BEGIN:VCALENDAR
VERSION:2.0
PRODID:-//Clancys Fish Pub - ECPv4.4.5//NONSGML v1.0//EN
CALSCALE:GREGORIAN
METHOD:PUBLISH
X-WR-CALNAME:Clancys Fish Pub
X-ORIGINAL-URL:https://clancysfishpub.com.au
X-WR-CALDESC:Events for Clancys Fish Pub
BEGIN:VEVENT
DTSTART;TZID=Australia/Perth:20190208T193000
DTEND;TZID=Australia/Perth:20190208T230000
DTSTAMP:20190301T041914
CREATED:20190108T062817Z
LAST-MODIFIED:20190108T062817Z
UID:3393-1549654200-1549666800@clancysfishpub.com.au
SUMMARY:Jesse & Hannah
DESCRIPTION:Jesse & Hannah are the hottest country duo in the wild west of Oz. Think Cher meets John Wayne or Perth’s answer to Johnny Cash and June Carter - just don’t ask them to play any of the iconic duo’s hits.\n\nTheirs is a modern day love story born from a mutual adoration for tunes of times past and a serendipitous meeting one night at Clancy’s back in 2011 whilst they were supporting each other in separate bands. Since then Jesse & Hannah have performed all around Australia together. Jesse & Hannah’s extensive repertoire includes Country & Western\, Rock & Blues\, Jazz & Ragtime music from all of last century up until their modern day compositions. It's super fun\, toe-tapping music for all ages\, that is sure to have you burning up the dance floor.\n\nFree Entry.
URL:https://clancysfishpub.com.au/event/jesse-hannah/2019-02-08/
LOCATION:51 Cantonment St\, Fremantle\, WA\, 6160\, Australia
GEO:-32.0504402;115.7489854
X-APPLE-STRUCTURED-LOCATION;VALUE=URI;X-ADDRESS=51 Cantonment St Fremantle WA 6160 Australia;X-APPLE-RADIUS=500;X-TITLE=51 Cantonment St:geo:115.7489854,-32.0504402
ATTACH;FMTTYPE=image/png:https://clancysfishpub.com.au/wp-content/uploads/2019/01/Screen-Shot-2019-01-08-at-2.22.02-pm.png
END:VEVENT
END:VCALENDAR