BEGIN:VCALENDAR
VERSION:2.0
PRODID:-//Clancys Fish Pub - ECPv4.4.5//NONSGML v1.0//EN
CALSCALE:GREGORIAN
METHOD:PUBLISH
X-WR-CALNAME:Clancys Fish Pub
X-ORIGINAL-URL:https://clancysfishpub.com.au
X-WR-CALDESC:Events for Clancys Fish Pub
BEGIN:VEVENT
DTSTART;TZID=Australia/Perth:20190203T180000
DTEND;TZID=Australia/Perth:20190203T220000
DTSTAMP:20190301T041227
CREATED:20190108T064555Z
LAST-MODIFIED:20190108T064555Z
UID:3395-1549216800-1549231200@clancysfishpub.com.au
SUMMARY:Orquesta Yambeque
DESCRIPTION:\n\nOrquesta Yambeque is WA’s Premier Latin Ensemble who work with the best latin musicians in the country. The band offers a very unique and tailor made Salsa repertoire and have recently celebrated their second year anniversary on the local Perth music scene. It’s definitely a cultural experience and journey whenever you get the opportunity to see Yambeque perform live.\n\nFree Entry.\n\n\n\n\n\n
URL:https://clancysfishpub.com.au/event/orquesta-yambeque-2/2019-02-03/
LOCATION:51 Cantonment St\, Fremantle\, WA\, 6160\, Australia
GEO:-32.0504402;115.7489854
X-APPLE-STRUCTURED-LOCATION;VALUE=URI;X-ADDRESS=51 Cantonment St Fremantle WA 6160 Australia;X-APPLE-RADIUS=500;X-TITLE=51 Cantonment St:geo:115.7489854,-32.0504402
ATTACH;FMTTYPE=image/png:https://clancysfishpub.com.au/wp-content/uploads/2018/11/Screen-Shot-2018-11-13-at-2.27.01-pm.png
END:VEVENT
END:VCALENDAR