BEGIN:VCALENDAR
VERSION:2.0
PRODID:-//Clancys Fish Pub - ECPv4.4.5//NONSGML v1.0//EN
CALSCALE:GREGORIAN
METHOD:PUBLISH
X-WR-CALNAME:Clancys Fish Pub
X-ORIGINAL-URL:https://clancysfishpub.com.au
X-WR-CALDESC:Events for Clancys Fish Pub
BEGIN:VEVENT
DTSTART;TZID=Australia/Perth:20190220T190000
DTEND;TZID=Australia/Perth:20190220T213000
DTSTAMP:20190301T042358
CREATED:20180220T025536Z
LAST-MODIFIED:20180220T025536Z
UID:1844-1550689200-1550698200@clancysfishpub.com.au
SUMMARY:Pub Choir w/ Jim Fisher & Natalie Gillespie
DESCRIPTION:Well it's time for YOU to perform at Clancy's! Join our conductors Jim Fisher and Natalie Gillespie as they unite a pub full of punters in a joyful bar room chorus. Warm up with some fun classics and then work up a number with our conductors to perform at the end of the session and we shall film it for prosperity. Come and join the PUB CHOIR.\n\n3rd Wednesday of every month.\nKicking off at 7 pm!\nGold coin donation :)
URL:https://clancysfishpub.com.au/event/pub-choir-w-jim-fisher-natalie-gillespie/2019-02-20/
LOCATION:51 Cantonment St\, Fremantle\, WA\, 6160\, Australia
GEO:-32.0504402;115.7489854
X-APPLE-STRUCTURED-LOCATION;VALUE=URI;X-ADDRESS=51 Cantonment St Fremantle WA 6160 Australia;X-APPLE-RADIUS=500;X-TITLE=51 Cantonment St:geo:115.7489854,-32.0504402
ATTACH;FMTTYPE=image/jpeg:https://clancysfishpub.com.au/wp-content/uploads/2018/02/Pub-choir.jpg
END:VEVENT
END:VCALENDAR