BEGIN:VCALENDAR
VERSION:2.0
PRODID:-//Clancys Fish Pub - ECPv4.4.5//NONSGML v1.0//EN
CALSCALE:GREGORIAN
METHOD:PUBLISH
X-WR-CALNAME:Clancys Fish Pub
X-ORIGINAL-URL:https://clancysfishpub.com.au
X-WR-CALDESC:Events for Clancys Fish Pub
BEGIN:VEVENT
DTSTART;TZID=Australia/Perth:20190223T180000
DTEND;TZID=Australia/Perth:20190223T210000
DTSTAMP:20190301T042527
CREATED:20190122T050932Z
LAST-MODIFIED:20190122T050932Z
UID:3487-1550944800-1550955600@clancysfishpub.com.au
SUMMARY:Russell Holmes Trio
DESCRIPTION:Triple WAM award winning Jazz Pianist\, Russell Holmes has performed with many great jazz ensembles around the world and is now ready to bless your ears every Saturday evening for the month of February. Join us for beautiful summer evenings with smooth jazz\, incredible sunsets and delicious food and drinks.\n\nFree Entry.
URL:https://clancysfishpub.com.au/event/russell-holmes-trio/2019-02-23/
LOCATION:195 Challenger Parade\, City Beach\, WA\, 6015\, Australia
GEO:-31.9380411;115.7561847
X-APPLE-STRUCTURED-LOCATION;VALUE=URI;X-ADDRESS=195 Challenger Parade City Beach WA 6015 Australia;X-APPLE-RADIUS=500;X-TITLE=195 Challenger Parade:geo:115.7561847,-31.9380411
ATTACH;FMTTYPE=image/png:https://clancysfishpub.com.au/wp-content/uploads/2019/01/1147727_156367304566334_1591159219_o.png
END:VEVENT
END:VCALENDAR