BEGIN:VCALENDAR
VERSION:2.0
PRODID:-//Clancys Fish Pub - ECPv4.4.5//NONSGML v1.0//EN
CALSCALE:GREGORIAN
METHOD:PUBLISH
X-WR-CALNAME:Clancys Fish Pub
X-ORIGINAL-URL:https://clancysfishpub.com.au
X-WR-CALDESC:Events for Clancys Fish Pub
BEGIN:VEVENT
DTSTART;TZID=Australia/Perth:20180923T190000
DTEND;TZID=Australia/Perth:20180923T220000
DTSTAMP:20190301T043304
CREATED:20180720T044357Z
LAST-MODIFIED:20180720T044357Z
UID:2749-1537729200-1537740000@clancysfishpub.com.au
SUMMARY:Sunday Soul Shakedown
DESCRIPTION:Sunday Soul Shakedown every Sunday in August will have you groovin and a movin to all the finest soul\, funk and motown hits that your heart could possibly desire. The dance floor will be burning up!  Get on up for the legendary 'DJ Modfather' plus guest DJs\, a full scale soul dance floor\, drink specials and soul food. This is a very special way to end your week\, come get amongst it!\n\nFree Entry - Good times.
URL:https://clancysfishpub.com.au/event/sunday-soul-shakedown/2018-09-23/
LOCATION:51 Cantonment St\, Fremantle\, WA\, 6160\, Australia
GEO:-32.0504402;115.7489854
X-APPLE-STRUCTURED-LOCATION;VALUE=URI;X-ADDRESS=51 Cantonment St Fremantle WA 6160 Australia;X-APPLE-RADIUS=500;X-TITLE=51 Cantonment St:geo:115.7489854,-32.0504402
ATTACH;FMTTYPE=image/png:https://clancysfishpub.com.au/wp-content/uploads/2018/07/Unknown-5.png
END:VEVENT
END:VCALENDAR